BEGIN:VCALENDAR
VERSION:2.0
PRODID:-//Trailsweepers Snow &amp; Sports Club - ECPv6.15.20//NONSGML v1.0//EN
CALSCALE:GREGORIAN
METHOD:PUBLISH
X-WR-CALNAME:Trailsweepers Snow &amp; Sports Club
X-ORIGINAL-URL:https://trailsweepers.org
X-WR-CALDESC:Events for Trailsweepers Snow &amp; Sports Club
REFRESH-INTERVAL;VALUE=DURATION:PT1H
X-Robots-Tag:noindex
X-PUBLISHED-TTL:PT1H
BEGIN:VTIMEZONE
TZID:UTC
BEGIN:STANDARD
TZOFFSETFROM:+0000
TZOFFSETTO:+0000
TZNAME:UTC
DTSTART:20230101T000000
END:STANDARD
END:VTIMEZONE
BEGIN:VEVENT
DTSTART;TZID=UTC:20240522T100000
DTEND;TZID=UTC:20240522T150000
DTSTAMP:20260425T040640
CREATED:20240502T111138Z
LAST-MODIFIED:20240502T111138Z
UID:1639-1716372000-1716390000@trailsweepers.org
SUMMARY:Kayak Paddle
DESCRIPTION:First of the Season on Chodikee Lake\, Highland
URL:https://trailsweepers.org/event/kayak-paddle-3
LOCATION:Chodikee Lake Boat Launch\, 900 North Chodikee Lake Road\, Highland\, New York\, 12528\, United States
END:VEVENT
BEGIN:VEVENT
DTSTART;TZID=UTC:20240514T183000
DTEND;TZID=UTC:20240514T200000
DTSTAMP:20260425T040640
CREATED:20240405T110153Z
LAST-MODIFIED:20240405T110153Z
UID:1625-1715711400-1715716800@trailsweepers.org
SUMMARY:Board and Regular Meeting
DESCRIPTION:
URL:https://trailsweepers.org/event/board-and-regular-meeting
LOCATION:Sky View Mexican Restaurant\, 237 Forest Hill Drive\, Kingston\, New York\, 12401
END:VEVENT
BEGIN:VEVENT
DTSTART;TZID=UTC:20240510T173000
DTEND;TZID=UTC:20240510T200000
DTSTAMP:20260425T040640
CREATED:20240502T105841Z
LAST-MODIFIED:20240502T105841Z
UID:1637-1715362200-1715371200@trailsweepers.org
SUMMARY:HAPPY HOUR
DESCRIPTION:
URL:https://trailsweepers.org/event/happy-hour-12
LOCATION:The Anchorage\, 182 Canal Street\, Kingston\, New York\, 12401\, United States
END:VEVENT
BEGIN:VEVENT
DTSTART;TZID=UTC:20240508T090000
DTEND;TZID=UTC:20240508T140000
DTSTAMP:20260425T040641
CREATED:20240502T105647Z
LAST-MODIFIED:20240502T105647Z
UID:1634-1715158800-1715176800@trailsweepers.org
SUMMARY:Club Hike
DESCRIPTION:Get outdoors and celebrate the Spring season on the Scenic Hudson trail network on Shaupaneak Ridge. Meet at the Louisa Pond parking area on Poppletown Road Esopus.
URL:https://trailsweepers.org/event/club-hike-2
LOCATION:Shaupaneak Ridge\, 143 Poppletown Road\, Esopus\, New York\, 12429\, United States
END:VEVENT
BEGIN:VEVENT
DTSTART;TZID=UTC:20240503T173000
DTEND;TZID=UTC:20240503T213000
DTSTAMP:20260425T040641
CREATED:20240303T111805Z
LAST-MODIFIED:20240502T105015Z
UID:1605-1714757400-1714771800@trailsweepers.org
SUMMARY:Spring Banquet
DESCRIPTION:Buffet dinner\, cash bar and dancing with band in a private space. Details and sign-up information can be found in April Newsletter
URL:https://trailsweepers.org/event/spring-banquet-3
LOCATION:Ole Savannah Southern Table and Bar\, 100 Rondout Landing\, Kingston\, New York\, 12401\, United States
END:VEVENT
BEGIN:VEVENT
DTSTART;TZID=UTC:20240426T173000
DTEND;TZID=UTC:20240426T200000
DTSTAMP:20260425T040641
CREATED:20240405T105817Z
LAST-MODIFIED:20240405T105817Z
UID:1621-1714152600-1714161600@trailsweepers.org
SUMMARY:Happy Hour
DESCRIPTION:
URL:https://trailsweepers.org/event/happy-hour-44
LOCATION:Ole Savannah Southern Table and Bar\, 100 Rondout Landing\, Kingston\, New York\, 12401\, United States
END:VEVENT
END:VCALENDAR