BEGIN:VCALENDAR
VERSION:2.0
PRODID:-//Trailsweepers Snow &amp; Sports Club - ECPv6.15.20//NONSGML v1.0//EN
CALSCALE:GREGORIAN
METHOD:PUBLISH
X-ORIGINAL-URL:https://trailsweepers.org
X-WR-CALDESC:Events for Trailsweepers Snow &amp; Sports Club
REFRESH-INTERVAL;VALUE=DURATION:PT1H
X-Robots-Tag:noindex
X-PUBLISHED-TTL:PT1H
BEGIN:VTIMEZONE
TZID:UTC
BEGIN:STANDARD
TZOFFSETFROM:+0000
TZOFFSETTO:+0000
TZNAME:UTC
DTSTART:20230101T000000
END:STANDARD
END:VTIMEZONE
BEGIN:VEVENT
DTSTART;TZID=UTC:20240705T173000
DTEND;TZID=UTC:20240705T193000
DTSTAMP:20260425T005908
CREATED:20240705T111622Z
LAST-MODIFIED:20240705T111622Z
UID:1674-1720200600-1720207800@trailsweepers.org
SUMMARY:HAPPY HOUR
DESCRIPTION:
URL:https://trailsweepers.org/event/happy-hour-16
LOCATION:Hoffman House\, 94 North Front Street\, Kingston\, New York\, 12401\, United States
END:VEVENT
BEGIN:VEVENT
DTSTART;TZID=UTC:20240708T080000
DTEND;TZID=UTC:20240708T160000
DTSTAMP:20260425T005908
CREATED:20240617T122942Z
LAST-MODIFIED:20240617T122942Z
UID:1656-1720425600-1720454400@trailsweepers.org
SUMMARY:Club Hike
DESCRIPTION:Private\, guided hike to Shingle Gully. Must sign-up in advance with S. Wingard.
URL:https://trailsweepers.org/event/club-hike-3
LOCATION:New York
END:VEVENT
BEGIN:VEVENT
DTSTART;TZID=UTC:20240709T193000
DTEND;TZID=UTC:20240709T210000
DTSTAMP:20260425T005908
CREATED:20240617T123216Z
LAST-MODIFIED:20240617T123216Z
UID:1660-1720553400-1720558800@trailsweepers.org
SUMMARY:Board and Regular Club Meeting
DESCRIPTION:
URL:https://trailsweepers.org/event/board-and-regular-club-meeting
LOCATION:Sky View Mexican Restaurant\, 237 Forest Hill Drive\, Kingston\, New York\, 12401
END:VEVENT
BEGIN:VEVENT
DTSTART;TZID=UTC:20240710T100000
DTEND;TZID=UTC:20240710T150000
DTSTAMP:20260425T005908
CREATED:20240705T112755Z
LAST-MODIFIED:20240705T112755Z
UID:1681-1720605600-1720623600@trailsweepers.org
SUMMARY:KAYAKING
DESCRIPTION:Arrive in time to be ready for put-in at 10 am sharp
URL:https://trailsweepers.org/event/kayaking
LOCATION:Bob Shepard Highland Landing Park\, 52 - 78 River Road\, Highland\, New York\, 12528\, United States
END:VEVENT
BEGIN:VEVENT
DTSTART;TZID=UTC:20240719T173000
DTEND;TZID=UTC:20240719T193000
DTSTAMP:20260425T005908
CREATED:20240705T112148Z
LAST-MODIFIED:20240705T112148Z
UID:1676-1721410200-1721417400@trailsweepers.org
SUMMARY:HAPPY HOUR
DESCRIPTION:
URL:https://trailsweepers.org/event/happy-hour-17
LOCATION:Stone House Tavern\, 4802 U.S. Route 209\, Accord\, New York\, 12404\, United States
END:VEVENT
BEGIN:VEVENT
DTSTART;TZID=UTC:20240722T080000
DTEND;TZID=UTC:20240722T160000
DTSTAMP:20260425T005908
CREATED:20240617T123059Z
LAST-MODIFIED:20240617T123059Z
UID:1658-1721635200-1721664000@trailsweepers.org
SUMMARY:Club Hike
DESCRIPTION:Private\, guided hike to Shingle Gully. Must sign-up in advance with S. Wingard.
URL:https://trailsweepers.org/event/club-hike-4
LOCATION:New York
END:VEVENT
END:VCALENDAR