BEGIN:VCALENDAR
VERSION:2.0
PRODID:-//Trailsweepers Snow &amp; Sports Club - ECPv6.15.20//NONSGML v1.0//EN
CALSCALE:GREGORIAN
METHOD:PUBLISH
X-ORIGINAL-URL:https://trailsweepers.org
X-WR-CALDESC:Events for Trailsweepers Snow &amp; Sports Club
REFRESH-INTERVAL;VALUE=DURATION:PT1H
X-Robots-Tag:noindex
X-PUBLISHED-TTL:PT1H
BEGIN:VTIMEZONE
TZID:UTC
BEGIN:STANDARD
TZOFFSETFROM:+0000
TZOFFSETTO:+0000
TZNAME:UTC
DTSTART:20230101T000000
END:STANDARD
END:VTIMEZONE
BEGIN:VEVENT
DTSTART;TZID=UTC:20240802T100000
DTEND;TZID=UTC:20240802T140000
DTSTAMP:20260424T233058
CREATED:20240724T132504Z
LAST-MODIFIED:20240724T132504Z
UID:1687-1722592800-1722607200@trailsweepers.org
SUMMARY:Visit to Storm King Art Center
DESCRIPTION:Free to visit on First Fridays each month. Email to come with carpooling options from Kingston.
URL:https://trailsweepers.org/event/visit-to-storm-king-art-center
LOCATION:Storm King Art Center\, 1 Museum Road\, New Windsor\, New York\, 12553\, United States
END:VEVENT
BEGIN:VEVENT
DTSTART;TZID=UTC:20240809T173000
DTEND;TZID=UTC:20240809T200000
DTSTAMP:20260424T233058
CREATED:20240802T100639Z
LAST-MODIFIED:20240802T100639Z
UID:1692-1723224600-1723233600@trailsweepers.org
SUMMARY:Happy Hour at Great Life Brewery\, West Park
DESCRIPTION:
URL:https://trailsweepers.org/event/happy-hour-at-great-life-brewery-west-park
LOCATION:Red Maple Vineyard\, 103 Burroughs Drive\, West Park\, New York\, 12493\, United States
END:VEVENT
BEGIN:VEVENT
DTSTART;TZID=UTC:20240813T170000
DTEND;TZID=UTC:20240813T200000
DTSTAMP:20260424T233058
CREATED:20240617T123328Z
LAST-MODIFIED:20240724T131521Z
UID:1662-1723568400-1723579200@trailsweepers.org
SUMMARY:Board\, Regular Meetings/Picnic
DESCRIPTION:The August meeting will be held at 5 pm at Kingston Point. Kayaking available for those interested at 2 pm.
URL:https://trailsweepers.org/event/board-and-regular-club-meetings-2
LOCATION:Kingston Point Beach\, 102 - 144 Delaware Avenue\, Kingston\, 12401\, United States
END:VEVENT
BEGIN:VEVENT
DTSTART;TZID=UTC:20240818T143000
DTEND;TZID=UTC:20240818T190000
DTSTAMP:20260424T233058
CREATED:20240802T100914Z
LAST-MODIFIED:20240802T100914Z
UID:1695-1723991400-1724007600@trailsweepers.org
SUMMARY:Symphonic Concert at Tanglewood
DESCRIPTION:
URL:https://trailsweepers.org/event/symphonic-concert-at-tanglewood
LOCATION:Tanglewood\, 297 West Street\, Lenox\, Massachusetts\, 01240\, United States
END:VEVENT
BEGIN:VEVENT
DTSTART;TZID=UTC:20240821T100000
DTEND;TZID=UTC:20240821T140000
DTSTAMP:20260424T233058
CREATED:20240802T101155Z
LAST-MODIFIED:20240802T101232Z
UID:1697-1724234400-1724248800@trailsweepers.org
SUMMARY:Kayaking on Rondout Creek
DESCRIPTION:
URL:https://trailsweepers.org/event/kayaking-2
LOCATION:Sleightsburg Park\, Parsell Street\, Port Ewen\, New York\, 12466\, United States
END:VEVENT
BEGIN:VEVENT
DTSTART;TZID=UTC:20240823T173000
DTEND;TZID=UTC:20240823T200000
DTSTAMP:20260424T233058
CREATED:20240802T101608Z
LAST-MODIFIED:20240802T101608Z
UID:1700-1724434200-1724443200@trailsweepers.org
SUMMARY:BYOB Happy Hour at Rondout Yacht Basin
DESCRIPTION:
URL:https://trailsweepers.org/event/byob-happy-hour-at-rondout-yacht-basin
LOCATION:Rondout Yacht Basin\, 102 1st Street\, Connelly\, New York\, 12417\, United States
END:VEVENT
END:VCALENDAR