BEGIN:VCALENDAR
VERSION:2.0
PRODID:-//Trailsweepers Snow &amp; Sports Club - ECPv6.15.20//NONSGML v1.0//EN
CALSCALE:GREGORIAN
METHOD:PUBLISH
X-WR-CALNAME:Trailsweepers Snow &amp; Sports Club
X-ORIGINAL-URL:https://trailsweepers.org
X-WR-CALDESC:Events for Trailsweepers Snow &amp; Sports Club
REFRESH-INTERVAL;VALUE=DURATION:PT1H
X-Robots-Tag:noindex
X-PUBLISHED-TTL:PT1H
BEGIN:VTIMEZONE
TZID:UTC
BEGIN:STANDARD
TZOFFSETFROM:+0000
TZOFFSETTO:+0000
TZNAME:UTC
DTSTART:20230101T000000
END:STANDARD
END:VTIMEZONE
BEGIN:VEVENT
DTSTART;TZID=UTC:20240906T173000
DTEND;TZID=UTC:20240906T200000
DTSTAMP:20260424T215956
CREATED:20240902T113933Z
LAST-MODIFIED:20240902T113933Z
UID:1724-1725643800-1725652800@trailsweepers.org
SUMMARY:Happy Hour
DESCRIPTION:
URL:https://trailsweepers.org/event/happy-hour-18
LOCATION:Ole Savannah Southern Table and Bar\, 100 Rondout Landing\, Kingston\, New York\, 12401\, United States
END:VEVENT
BEGIN:VEVENT
DTSTART;TZID=UTC:20240910T183000
DTEND;TZID=UTC:20240910T200000
DTSTAMP:20260424T215956
CREATED:20240802T101951Z
LAST-MODIFIED:20240902T114026Z
UID:1703-1725993000-1725998400@trailsweepers.org
SUMMARY:Board and Regular Club Meetings
DESCRIPTION:
URL:https://trailsweepers.org/event/board-and-regular-club-meetings-3
LOCATION:Sky View Mexican Restaurant\, 237 Forest Hill Drive\, Kingston\, New York\, 12401
END:VEVENT
BEGIN:VEVENT
DTSTART;TZID=UTC:20240911T100000
DTEND;TZID=UTC:20240911T150000
DTSTAMP:20260424T215956
CREATED:20240802T102354Z
LAST-MODIFIED:20240802T102354Z
UID:1705-1726048800-1726066800@trailsweepers.org
SUMMARY:Kayaking on the Hudson - Cold Spring
DESCRIPTION:
URL:https://trailsweepers.org/event/kayaking-on-the-hudson-cold-spring
LOCATION:Foundry Dock Park\, Cold Spring\, New York\, 10516\, United States
END:VEVENT
BEGIN:VEVENT
DTSTART;TZID=UTC:20240912T160000
DTEND;TZID=UTC:20240912T190000
DTSTAMP:20260424T215956
CREATED:20240902T114513Z
LAST-MODIFIED:20240902T114943Z
UID:1726-1726156800-1726167600@trailsweepers.org
SUMMARY:DISC Golf
DESCRIPTION:Join other Trailsweepers for a round of DISC golf (similar to frisbee tossed at targets). Equipment and initial instruction provided by hosts Aime and Kevin.
URL:https://trailsweepers.org/event/disc-golf-2
LOCATION:Kingston Point Park\, 49 - 51 Delaware Avenue\, Kingston\, New York\, 12401\, United States
END:VEVENT
BEGIN:VEVENT
DTSTART;TZID=UTC:20240913T080000
DTEND;TZID=UTC:20240913T150000
DTSTAMP:20260424T215956
CREATED:20240912T103552Z
LAST-MODIFIED:20240912T103552Z
UID:1750-1726214400-1726239600@trailsweepers.org
SUMMARY:Hike to Rusk Mountain
DESCRIPTION:Bushwhack to a lesser hiked Catskill 3500 peak.  Meet at Kingston thruway Park and Ride at 8 or Trailhead on Spruceton Road at 9. Additional details sent via Club email.
URL:https://trailsweepers.org/event/hike-to-rusk-mountain
LOCATION:New York
END:VEVENT
BEGIN:VEVENT
DTSTART;TZID=UTC:20240920T173000
DTEND;TZID=UTC:20240920T200000
DTSTAMP:20260424T215956
CREATED:20240902T115145Z
LAST-MODIFIED:20240902T115145Z
UID:1736-1726853400-1726862400@trailsweepers.org
SUMMARY:Happy Hour
DESCRIPTION:Upstairs\, rooftop bar at Front St. Tavern
URL:https://trailsweepers.org/event/happy-hour-19
LOCATION:Front Street Tavern\, 63 North Front Street\, Kingston\, New York
END:VEVENT
BEGIN:VEVENT
DTSTART;TZID=UTC:20240922T090000
DTEND;TZID=UTC:20240922T140000
DTSTAMP:20260424T215956
CREATED:20240902T135219Z
LAST-MODIFIED:20240902T135219Z
UID:1738-1726995600-1727013600@trailsweepers.org
SUMMARY:Benedictine Health Foundation Run/Walk/Cycle Fundraiser
DESCRIPTION:Join other Club members in supporting this worthy cause which generates funds to assist local cancer patients and their families.
URL:https://trailsweepers.org/event/benedictine-health-foundation-run-walk-cycle-fundraiser
LOCATION:O & W Building\, 79 Hurley Avenue\, Kingston\, New York\, 12401\, United States
END:VEVENT
BEGIN:VEVENT
DTSTART;TZID=UTC:20240924T190000
DTEND;TZID=UTC:20240924T203000
DTSTAMP:20260424T215956
CREATED:20240802T102547Z
LAST-MODIFIED:20240802T102547Z
UID:1708-1727204400-1727209800@trailsweepers.org
SUMMARY:Informational Program
DESCRIPTION:Speaker will be Joy Damon of the Catskill Science Collaborative
URL:https://trailsweepers.org/event/informational-program-2
LOCATION:Sky View Mexican Restaurant\, 237 Forest Hill Drive\, Kingston\, New York\, 12401
END:VEVENT
END:VCALENDAR