BEGIN:VCALENDAR
VERSION:2.0
PRODID:-//Trailsweepers Snow &amp; Sports Club - ECPv6.15.20//NONSGML v1.0//EN
CALSCALE:GREGORIAN
METHOD:PUBLISH
X-ORIGINAL-URL:https://trailsweepers.org
X-WR-CALDESC:Events for Trailsweepers Snow &amp; Sports Club
REFRESH-INTERVAL;VALUE=DURATION:PT1H
X-Robots-Tag:noindex
X-PUBLISHED-TTL:PT1H
BEGIN:VTIMEZONE
TZID:UTC
BEGIN:STANDARD
TZOFFSETFROM:+0000
TZOFFSETTO:+0000
TZNAME:UTC
DTSTART:20230101T000000
END:STANDARD
END:VTIMEZONE
BEGIN:VEVENT
DTSTART;TZID=UTC:20241107T080000
DTEND;TZID=UTC:20241107T160000
DTSTAMP:20260424T191830
CREATED:20241105T121449Z
LAST-MODIFIED:20241105T121449Z
UID:1794-1730966400-1730995200@trailsweepers.org
SUMMARY:Club Hike: Blackhead and Black Dome
DESCRIPTION:Two 3500 Catskills peaks often hiked together in a 6-mile loop. Meet at Kingston Thruway Park and Ride at 8 or Big Hollow Road trailhead in Maplecrest around 9. Inform Steve Wingard if you plan to join.
URL:https://trailsweepers.org/event/club-hike-blackhead-and-black-dome
LOCATION:New York
END:VEVENT
BEGIN:VEVENT
DTSTART;TZID=UTC:20241108T173000
DTEND;TZID=UTC:20241108T200000
DTSTAMP:20260424T191830
CREATED:20241105T111239Z
LAST-MODIFIED:20241105T111318Z
UID:1785-1731087000-1731096000@trailsweepers.org
SUMMARY:Happy Hour
DESCRIPTION:
URL:https://trailsweepers.org/event/happy-hour-22
LOCATION:Garvan’s\, 215 Huguenot Street\, New Paltz\, New York\, 12561\, United States
END:VEVENT
BEGIN:VEVENT
DTSTART;TZID=UTC:20241112T183000
DTEND;TZID=UTC:20241112T200000
DTSTAMP:20260424T191830
CREATED:20241002T103216Z
LAST-MODIFIED:20241002T103216Z
UID:1763-1731436200-1731441600@trailsweepers.org
SUMMARY:Board and Monthly Club Meetings
DESCRIPTION:
URL:https://trailsweepers.org/event/board-and-monthly-club-meetings
LOCATION:Sky View Mexican Restaurant\, 237 Forest Hill Drive\, Kingston\, New York\, 12401
END:VEVENT
BEGIN:VEVENT
DTSTART;TZID=UTC:20241123T180000
DTEND;TZID=UTC:20241123T220000
DTSTAMP:20260424T191830
CREATED:20240802T103607Z
LAST-MODIFIED:20241013T111502Z
UID:1715-1732384800-1732399200@trailsweepers.org
SUMMARY:Start of the Ski Season Dinner/Dance
DESCRIPTION:Join other Trailsweepers and members of Hudson Valley Ski Club
URL:https://trailsweepers.org/event/start-of-the-ski-season-dinner-dance
LOCATION:Stonehedge Restaurant\, 1694 Route 9W\, West Park\, New York\, 12493\, United States
END:VEVENT
BEGIN:VEVENT
DTSTART;TZID=UTC:20241126T190000
DTEND;TZID=UTC:20241126T200000
DTSTAMP:20260424T191830
CREATED:20241002T103406Z
LAST-MODIFIED:20241002T103406Z
UID:1765-1732647600-1732651200@trailsweepers.org
SUMMARY:Informational Program
DESCRIPTION:Zach Fletcher will visit to deliver a program related to health of the senior athltete
URL:https://trailsweepers.org/event/informational-program-8
LOCATION:Sky View Mexican Restaurant\, 237 Forest Hill Drive\, Kingston\, New York\, 12401
END:VEVENT
END:VCALENDAR