BEGIN:VCALENDAR
VERSION:2.0
PRODID:-//Trailsweepers Snow &amp; Sports Club - ECPv6.15.20//NONSGML v1.0//EN
CALSCALE:GREGORIAN
METHOD:PUBLISH
X-WR-CALNAME:Trailsweepers Snow &amp; Sports Club
X-ORIGINAL-URL:https://trailsweepers.org
X-WR-CALDESC:Events for Trailsweepers Snow &amp; Sports Club
REFRESH-INTERVAL;VALUE=DURATION:PT1H
X-Robots-Tag:noindex
X-PUBLISHED-TTL:PT1H
BEGIN:VTIMEZONE
TZID:UTC
BEGIN:STANDARD
TZOFFSETFROM:+0000
TZOFFSETTO:+0000
TZNAME:UTC
DTSTART:20230101T000000
END:STANDARD
END:VTIMEZONE
BEGIN:VEVENT
DTSTART;TZID=UTC:20241206T173000
DTEND;TZID=UTC:20241206T200000
DTSTAMP:20260424T173105
CREATED:20241202T122050Z
LAST-MODIFIED:20241202T122050Z
UID:1798-1733506200-1733515200@trailsweepers.org
SUMMARY:Happy Hour with HV Ski Club
DESCRIPTION:If you plan to have dinner afterwards\, probably a good idea to make a reservation
URL:https://trailsweepers.org/event/happy-hour-with-hv-ski-club
LOCATION:Beekman Arms Tavern\, 6387 Mill Street\, Rhinebeck\, New York\, 12572\, United States
END:VEVENT
BEGIN:VEVENT
DTSTART;TZID=UTC:20241210T190000
DTEND;TZID=UTC:20241210T200000
DTSTAMP:20260424T173105
CREATED:20241105T111450Z
LAST-MODIFIED:20241202T122358Z
UID:1787-1733857200-1733860800@trailsweepers.org
SUMMARY:Informational Program followed by Holiday Cookie Bake-off
DESCRIPTION:Gio Holmquist will discuss advanced ski tuning techniques
URL:https://trailsweepers.org/event/informational-program-9
LOCATION:Skyview Mexican Restaurant\, 237 Forest Hill Drive\, Kingston\, New York\, 12401\, United States
END:VEVENT
BEGIN:VEVENT
DTSTART;TZID=UTC:20241220T173000
DTEND;TZID=UTC:20241220T200000
DTSTAMP:20260424T173105
CREATED:20241202T122212Z
LAST-MODIFIED:20241202T122212Z
UID:1800-1734715800-1734724800@trailsweepers.org
SUMMARY:Happy Hour
DESCRIPTION:
URL:https://trailsweepers.org/event/happy-hour-23
LOCATION:Frank Guido’s Little Italy\, 14 Thomas Street\, Kingston\, New York\, 12401\, United States
END:VEVENT
END:VCALENDAR