BEGIN:VCALENDAR
VERSION:2.0
PRODID:-//Trailsweepers Snow &amp; Sports Club - ECPv6.15.20//NONSGML v1.0//EN
CALSCALE:GREGORIAN
METHOD:PUBLISH
X-WR-CALNAME:Trailsweepers Snow &amp; Sports Club
X-ORIGINAL-URL:https://trailsweepers.org
X-WR-CALDESC:Events for Trailsweepers Snow &amp; Sports Club
REFRESH-INTERVAL;VALUE=DURATION:PT1H
X-Robots-Tag:noindex
X-PUBLISHED-TTL:PT1H
BEGIN:VTIMEZONE
TZID:UTC
BEGIN:STANDARD
TZOFFSETFROM:+0000
TZOFFSETTO:+0000
TZNAME:UTC
DTSTART:20240101T000000
END:STANDARD
END:VTIMEZONE
BEGIN:VEVENT
DTSTART;TZID=UTC:20250104T090000
DTEND;TZID=UTC:20250104T140000
DTSTAMP:20260424T155214
CREATED:20250101T124603Z
LAST-MODIFIED:20250101T124603Z
UID:1816-1735981200-1735999200@trailsweepers.org
SUMMARY:Club Hike
DESCRIPTION:Hike on the trail network on the Scenic Hudson property on Shaupaneak Ridge in Esopus
URL:https://trailsweepers.org/event/club-hike-5
LOCATION:Shaupaneak Ridge\, 143 Poppletown Road\, Esopus\, New York\, 12429\, United States
END:VEVENT
BEGIN:VEVENT
DTSTART;TZID=UTC:20250110T173000
DTEND;TZID=UTC:20250110T193000
DTSTAMP:20260424T155214
CREATED:20250101T124725Z
LAST-MODIFIED:20250101T124725Z
UID:1818-1736530200-1736537400@trailsweepers.org
SUMMARY:Happy Hour
DESCRIPTION:
URL:https://trailsweepers.org/event/happy-hour-24
LOCATION:Masa Midtown\, 666 Broadway\, Kingston\, New York\, 12401\, United States
END:VEVENT
BEGIN:VEVENT
DTSTART;TZID=UTC:20250114T190000
DTEND;TZID=UTC:20250114T200000
DTSTAMP:20260424T155214
CREATED:20250101T124946Z
LAST-MODIFIED:20250101T184501Z
UID:1820-1736881200-1736884800@trailsweepers.org
SUMMARY:Informational Program
DESCRIPTION:Program:  Jamie Dreyer will speak about Longevity Training
URL:https://trailsweepers.org/event/board-meeting-and-informational-program-3
LOCATION:Sky View Mexican Restaurant\, 237 Forest Hill Drive\, Kingston\, New York\, 12401
END:VEVENT
BEGIN:VEVENT
DTSTART;TZID=UTC:20250124T053000
DTEND;TZID=UTC:20250124T193000
DTSTAMP:20260424T155214
CREATED:20250101T125106Z
LAST-MODIFIED:20250101T125106Z
UID:1822-1737696600-1737747000@trailsweepers.org
SUMMARY:Happy Hour
DESCRIPTION:
URL:https://trailsweepers.org/event/happy-hour-25
LOCATION:Stella’s\, 44 North Front Street\, Kingston\, New York\, 12401\, United States
END:VEVENT
BEGIN:VEVENT
DTSTART;TZID=UTC:20250128T183000
DTEND;TZID=UTC:20250128T200000
DTSTAMP:20260424T155214
CREATED:20250101T125243Z
LAST-MODIFIED:20250101T184549Z
UID:1824-1738089000-1738094400@trailsweepers.org
SUMMARY:Board and Regular Monthly Meeting
DESCRIPTION:
URL:https://trailsweepers.org/event/regular-monthly-meeting
LOCATION:Sky View Mexican Restaurant\, 237 Forest Hill Drive\, Kingston\, New York\, 12401
END:VEVENT
END:VCALENDAR