BEGIN:VCALENDAR
VERSION:2.0
PRODID:-//Trailsweepers Snow &amp; Sports Club - ECPv6.15.20//NONSGML v1.0//EN
CALSCALE:GREGORIAN
METHOD:PUBLISH
X-WR-CALNAME:Trailsweepers Snow &amp; Sports Club
X-ORIGINAL-URL:https://trailsweepers.org
X-WR-CALDESC:Events for Trailsweepers Snow &amp; Sports Club
REFRESH-INTERVAL;VALUE=DURATION:PT1H
X-Robots-Tag:noindex
X-PUBLISHED-TTL:PT1H
BEGIN:VTIMEZONE
TZID:UTC
BEGIN:STANDARD
TZOFFSETFROM:+0000
TZOFFSETTO:+0000
TZNAME:UTC
DTSTART:20240101T000000
END:STANDARD
END:VTIMEZONE
BEGIN:VEVENT
DTSTART;TZID=UTC:20250408T190000
DTEND;TZID=UTC:20250408T200000
DTSTAMP:20260424T111106
CREATED:20250319T161938Z
LAST-MODIFIED:20250319T161941Z
UID:1863-1744138800-1744142400@trailsweepers.org
SUMMARY:General Meeting Including Annual Elections
DESCRIPTION:Annual Election for all Officers and Directors with Expiring Terms
URL:https://trailsweepers.org/event/general-meeting-including-annual-elections
LOCATION:Sky View Mexican Restaurant\, 237 Forest Hill Drive\, Kingston\, New York\, 12401
END:VEVENT
BEGIN:VEVENT
DTSTART;TZID=UTC:20250422T063000
DTEND;TZID=UTC:20250422T200000
DTSTAMP:20260424T111106
CREATED:20250319T162330Z
LAST-MODIFIED:20250319T162333Z
UID:1865-1745303400-1745352000@trailsweepers.org
SUMMARY:Board and General Monthly Meetings
DESCRIPTION:Board meeting followed immediately thereafter by regular meeting
URL:https://trailsweepers.org/event/board-and-general-monthly-meetings
LOCATION:Sky View Mexican Restaurant\, 237 Forest Hill Drive\, Kingston\, New York\, 12401
END:VEVENT
END:VCALENDAR