BEGIN:VCALENDAR
VERSION:2.0
PRODID:-//Trailsweepers Snow &amp; Sports Club - ECPv6.15.20//NONSGML v1.0//EN
CALSCALE:GREGORIAN
METHOD:PUBLISH
X-ORIGINAL-URL:https://trailsweepers.org
X-WR-CALDESC:Events for Trailsweepers Snow &amp; Sports Club
REFRESH-INTERVAL;VALUE=DURATION:PT1H
X-Robots-Tag:noindex
X-PUBLISHED-TTL:PT1H
BEGIN:VTIMEZONE
TZID:UTC
BEGIN:STANDARD
TZOFFSETFROM:+0000
TZOFFSETTO:+0000
TZNAME:UTC
DTSTART:20240101T000000
END:STANDARD
END:VTIMEZONE
BEGIN:VEVENT
DTSTART;TZID=UTC:20250708T183000
DTEND;TZID=UTC:20250708T203000
DTSTAMP:20260421T224821
CREATED:20250502T123500Z
LAST-MODIFIED:20250502T123502Z
UID:1889-1751999400-1752006600@trailsweepers.org
SUMMARY:Board and General Meetings
DESCRIPTION:
URL:https://trailsweepers.org/event/board-and-general-meetings-2
LOCATION:Sky View Mexican Restaurant\, 237 Forest Hill Drive\, Kingston\, New York\, 12401
END:VEVENT
BEGIN:VEVENT
DTSTART;TZID=UTC:20250709T100000
DTEND;TZID=UTC:20250709T150000
DTSTAMP:20260421T224821
CREATED:20250601T135338Z
LAST-MODIFIED:20250624T105302Z
UID:1924-1752055200-1752073200@trailsweepers.org
SUMMARY:Kayaking at Ramshorn-Livingston Sanctuary\, Catskill
DESCRIPTION:
URL:https://trailsweepers.org/event/kayaking-at-ramshorn-livingston-sanctuary-catskill
LOCATION:RamsHorn-Livingston Sanctuary\, 109 Dubois Road\, Catskill\, New York\, 12414\, United States
END:VEVENT
BEGIN:VEVENT
DTSTART;TZID=UTC:20250711T173000
DTEND;TZID=UTC:20250711T200000
DTSTAMP:20260421T224821
CREATED:20250702T163951Z
LAST-MODIFIED:20250702T163953Z
UID:1967-1752255000-1752264000@trailsweepers.org
SUMMARY:Happy Hour
DESCRIPTION:
URL:https://trailsweepers.org/event/happy-hour-32
LOCATION:Hickory Barbecue\, 743 Route 28\, Kingston\, New York\, United States
END:VEVENT
BEGIN:VEVENT
DTSTART;TZID=UTC:20250724T160000
DTEND;TZID=UTC:20250724T200000
DTSTAMP:20260421T224821
CREATED:20250502T124225Z
LAST-MODIFIED:20250702T164312Z
UID:1894-1753372800-1753387200@trailsweepers.org
SUMMARY:DISC Golf
DESCRIPTION:Think Golf using a frisbee like disc. Play the course at Kingston Point\, bring your own disc or borrow them from event hosts. Optional food/drinks at Sorry Charlie’s afterwards.
URL:https://trailsweepers.org/event/disc-golf-3
LOCATION:Kingston Point Beach\, 102 - 144 Delaware Avenue\, Kingston\, 12401\, United States
END:VEVENT
BEGIN:VEVENT
DTSTART;TZID=UTC:20250725T173000
DTEND;TZID=UTC:20250725T200000
DTSTAMP:20260421T224821
CREATED:20250702T164059Z
LAST-MODIFIED:20250702T164101Z
UID:1971-1753464600-1753473600@trailsweepers.org
SUMMARY:Happy Hour
DESCRIPTION:
URL:https://trailsweepers.org/event/happy-hour-33
LOCATION:Hoffman House\, 94 North Front Street\, Kingston\, New York\, 12401\, United States
END:VEVENT
BEGIN:VEVENT
DTSTART;TZID=UTC:20250730T100000
DTEND;TZID=UTC:20250730T150000
DTSTAMP:20260421T224821
CREATED:20250601T135719Z
LAST-MODIFIED:20250601T135721Z
UID:1928-1753869600-1753887600@trailsweepers.org
SUMMARY:Kayaking at Norrie Point\, Staatsburg
DESCRIPTION:
URL:https://trailsweepers.org/event/kayaking-at-norrie-point-staatsburg
LOCATION:Norrie Point\, 9 Old Post Road\, Staatsburg\, New York\, 12580\, United States
END:VEVENT
END:VCALENDAR