BEGIN:VCALENDAR
VERSION:2.0
PRODID:-//Trailsweepers Snow &amp; Sports Club - ECPv6.15.20//NONSGML v1.0//EN
CALSCALE:GREGORIAN
METHOD:PUBLISH
X-ORIGINAL-URL:https://trailsweepers.org
X-WR-CALDESC:Events for Trailsweepers Snow &amp; Sports Club
REFRESH-INTERVAL;VALUE=DURATION:PT1H
X-Robots-Tag:noindex
X-PUBLISHED-TTL:PT1H
BEGIN:VTIMEZONE
TZID:UTC
BEGIN:STANDARD
TZOFFSETFROM:+0000
TZOFFSETTO:+0000
TZNAME:UTC
DTSTART:20240101T000000
END:STANDARD
END:VTIMEZONE
BEGIN:VEVENT
DTSTART;TZID=UTC:20250801T173000
DTEND;TZID=UTC:20250801T210000
DTSTAMP:20260421T211208
CREATED:20250801T112218Z
LAST-MODIFIED:20250801T112220Z
UID:1980-1754069400-1754082000@trailsweepers.org
SUMMARY:Happy Hour
DESCRIPTION:Music by Breakaway 6:30 – 9 pm.
URL:https://trailsweepers.org/event/happy-hour
LOCATION:Stone House Tavern\, 4802 U.S. Route 209\, Accord\, New York\, 12404\, United States
END:VEVENT
BEGIN:VEVENT
DTSTART;TZID=UTC:20250808T173000
DTEND;TZID=UTC:20250808T200000
DTSTAMP:20260421T211208
CREATED:20250801T112459Z
LAST-MODIFIED:20250801T112500Z
UID:1983-1754674200-1754683200@trailsweepers.org
SUMMARY:Happy Hour
DESCRIPTION:
URL:https://trailsweepers.org/event/happy-hour-2
LOCATION:Hudson House Distillery\, 1835 US - 9W\, West Park\, New York\, 12401
END:VEVENT
BEGIN:VEVENT
DTSTART;TZID=UTC:20250809T100000
DTEND;TZID=UTC:20250809T150000
DTSTAMP:20260421T211208
CREATED:20250601T140053Z
LAST-MODIFIED:20250601T140055Z
UID:1932-1754733600-1754751600@trailsweepers.org
SUMMARY:Kayaking on Hudson at Coxsackie
DESCRIPTION:
URL:https://trailsweepers.org/event/kayaking-on-hudson-at-coxsackie
LOCATION:Coxsackie Boat Launch\, Reed Street\, Coxsackie\, New York\, 12051\, United States
END:VEVENT
BEGIN:VEVENT
DTSTART;TZID=UTC:20250812T170000
DTEND;TZID=UTC:20250812T200000
DTSTAMP:20260421T211208
CREATED:20250502T124433Z
LAST-MODIFIED:20250502T124434Z
UID:1896-1755018000-1755028800@trailsweepers.org
SUMMARY:Annual Summer Picnic Meeting
DESCRIPTION:Club will provide grilled items. BYOB and side dish or dessert to share. Kayaking and kayak informational session earlier in the day.
URL:https://trailsweepers.org/event/annual-summer-picnic-meeting
LOCATION:Kingston Point Beach\, 102 - 144 Delaware Avenue\, Kingston\, 12401\, United States
END:VEVENT
BEGIN:VEVENT
DTSTART;TZID=UTC:20250814T170000
DTEND;TZID=UTC:20250814T220000
DTSTAMP:20260421T211208
CREATED:20250601T142147Z
LAST-MODIFIED:20250601T142149Z
UID:1941-1755190800-1755208800@trailsweepers.org
SUMMARY:Spiegeltent at Bard College
DESCRIPTION:Have a picnic at 5 and then enjoy Bluegrass music with Eldridge and Andressen in the Spiegeltent at 7. Contact coordinator Marty N. before June 16 to sign up for a seat at a reserved table.
URL:https://trailsweepers.org/event/spiegeltent-at-bard-college-2
LOCATION:Fisher Center at Bard College\, Manor Avenue\, Annandale-on-Hudson\, New York\, 12504\, United States
END:VEVENT
BEGIN:VEVENT
DTSTART;TZID=UTC:20250815T173000
DTEND;TZID=UTC:20250815T200000
DTSTAMP:20260421T211208
CREATED:20250801T112658Z
LAST-MODIFIED:20250814T115610Z
UID:1987-1755279000-1755288000@trailsweepers.org
SUMMARY:Happy Hour
DESCRIPTION:Roadhouse 60s Band will be playing on the patio from 7 – 10.
URL:https://trailsweepers.org/event/happy-hour-34
LOCATION:Mariner’s Harbor\, 1 Broadway\, Kingston\, New York\, 12401
END:VEVENT
BEGIN:VEVENT
DTSTART;TZID=UTC:20250818T090000
DTEND;TZID=UTC:20250818T150000
DTSTAMP:20260421T211208
CREATED:20250801T112943Z
LAST-MODIFIED:20250801T112944Z
UID:1989-1755507600-1755529200@trailsweepers.org
SUMMARY:Shingle Gully Hike
DESCRIPTION:This is a very interesting\, guided hike to a unique area but is for experienced hikers only due to a number of rock scrambles. Must register with Steve Wingard in advance to participate.
URL:https://trailsweepers.org/event/shingle-gully-hike
LOCATION:New York
END:VEVENT
BEGIN:VEVENT
DTSTART;TZID=UTC:20250820T100000
DTEND;TZID=UTC:20250820T150000
DTSTAMP:20260421T211208
CREATED:20250601T162440Z
LAST-MODIFIED:20250601T162442Z
UID:1944-1755684000-1755702000@trailsweepers.org
SUMMARY:Kayaking the Hudson Locks - Waterford to Albany
DESCRIPTION:
URL:https://trailsweepers.org/event/kayaking-the-hudson-locks-waterford-to-albany
LOCATION:Waterford Boar Launch\, Waterford\, New York\, 12188\, United States
END:VEVENT
BEGIN:VEVENT
DTSTART;TZID=UTC:20250822T173000
DTEND;TZID=UTC:20250822T200000
DTSTAMP:20260421T211208
CREATED:20250801T113220Z
LAST-MODIFIED:20250801T113221Z
UID:1991-1755883800-1755892800@trailsweepers.org
SUMMARY:Happy Hour
DESCRIPTION:Good food and soft drinks but BYOB if you want something stronger.
URL:https://trailsweepers.org/event/happy-hour-35
LOCATION:Rondout Yacht Basin\, 102 1st Street\, Connelly\, New York\, 12417\, United States
END:VEVENT
BEGIN:VEVENT
DTSTART;TZID=UTC:20250824T150000
DTEND;TZID=UTC:20250824T190000
DTSTAMP:20260421T211208
CREATED:20250814T120227Z
LAST-MODIFIED:20250814T120248Z
UID:2009-1756047600-1756062000@trailsweepers.org
SUMMARY:Shakespeare in the Park and Picnic
DESCRIPTION:Merry Wives of Windsor preceded by an outdoor picnic at the Ziegenfelders
URL:https://trailsweepers.org/event/shakespeare-in-the-park-and-picnic
LOCATION:Shakespeare in The Park\, 45 Comeau Drive\, Woodstock\, 12498\, United States
END:VEVENT
BEGIN:VEVENT
DTSTART;TZID=UTC:20250829T173000
DTEND;TZID=UTC:20250829T200000
DTSTAMP:20260421T211208
CREATED:20250801T113412Z
LAST-MODIFIED:20250801T113413Z
UID:1994-1756488600-1756497600@trailsweepers.org
SUMMARY:Happy Hour
DESCRIPTION:Meet in the outdoor beer garden – weather permitting
URL:https://trailsweepers.org/event/happy-hour-36
LOCATION:Westkill Supply\, 602 Broadway Unit 2\, Kingston\, New York\, 12401\, United States
END:VEVENT
END:VCALENDAR