BEGIN:VCALENDAR
VERSION:2.0
PRODID:-//Trailsweepers Snow &amp; Sports Club - ECPv6.15.20//NONSGML v1.0//EN
CALSCALE:GREGORIAN
METHOD:PUBLISH
X-ORIGINAL-URL:https://trailsweepers.org
X-WR-CALDESC:Events for Trailsweepers Snow &amp; Sports Club
REFRESH-INTERVAL;VALUE=DURATION:PT1H
X-Robots-Tag:noindex
X-PUBLISHED-TTL:PT1H
BEGIN:VTIMEZONE
TZID:UTC
BEGIN:STANDARD
TZOFFSETFROM:+0000
TZOFFSETTO:+0000
TZNAME:UTC
DTSTART:20240101T000000
END:STANDARD
END:VTIMEZONE
BEGIN:VEVENT
DTSTART;TZID=UTC:20250903T180000
DTEND;TZID=UTC:20250903T193000
DTSTAMP:20260421T194310
CREATED:20250601T162735Z
LAST-MODIFIED:20250902T111955Z
UID:1948-1756922400-1756927800@trailsweepers.org
SUMMARY:Solaris Sunset Cruise
DESCRIPTION:Hudson Maritime Museum’s solar powered boat. Participants purchase their own tickets
URL:https://trailsweepers.org/event/solaris-sunset-cruise
LOCATION:Hudson Maritime Museum\, 50 Rondout Landing\, Kingston\, New York\, 12401\, United States
END:VEVENT
BEGIN:VEVENT
DTSTART;TZID=UTC:20250905T173000
DTEND;TZID=UTC:20250905T200000
DTSTAMP:20260421T194310
CREATED:20250902T111849Z
LAST-MODIFIED:20250902T111853Z
UID:2019-1757093400-1757102400@trailsweepers.org
SUMMARY:Happy Hour
DESCRIPTION:
URL:https://trailsweepers.org/event/happy-hour-3
LOCATION:Kingston Standard Brewing\, 22 Jansen Avenue\, Kingston\, New York\, 12401\, United States
END:VEVENT
BEGIN:VEVENT
DTSTART;TZID=UTC:20250908T090000
DTEND;TZID=UTC:20250908T150000
DTSTAMP:20260421T194310
CREATED:20250801T113636Z
LAST-MODIFIED:20250801T113637Z
UID:1996-1757322000-1757343600@trailsweepers.org
SUMMARY:Shingle Gully Hike
DESCRIPTION:This is a very interesting\, guided hike to a unique area but is for experienced hikers only due to a number of rock scrambles. Must register with Steve Wingard in advance to participate. In addition\, since this hike is open to the public you will need to register via a link to be sent via email.
URL:https://trailsweepers.org/event/shingle-gully-hike-2
LOCATION:New York
END:VEVENT
BEGIN:VEVENT
DTSTART;TZID=UTC:20250909T190000
DTEND;TZID=UTC:20250909T200000
DTSTAMP:20260421T194310
CREATED:20250801T113852Z
LAST-MODIFIED:20250801T113853Z
UID:1998-1757444400-1757448000@trailsweepers.org
SUMMARY:Informational Program
DESCRIPTION:Program on recent developments in the Catskills by Jeff Senterman\, Executive Director of the Catskill Center\, Mount Tremper.
URL:https://trailsweepers.org/event/informational-program-3
LOCATION:Sky View Mexican Restaurant\, 237 Forest Hill Drive\, Kingston\, New York\, 12401
END:VEVENT
BEGIN:VEVENT
DTSTART;TZID=UTC:20250912T173000
DTEND;TZID=UTC:20250912T200000
DTSTAMP:20260421T194310
CREATED:20250902T112413Z
LAST-MODIFIED:20250902T112414Z
UID:2023-1757698200-1757707200@trailsweepers.org
SUMMARY:Happy Hour
DESCRIPTION:
URL:https://trailsweepers.org/event/happy-hour-4
LOCATION:Magie Mae’s\, 215 Huguenot Street\, New Paltz\, New York\, 12561\, United States
END:VEVENT
BEGIN:VEVENT
DTSTART;TZID=UTC:20250919T173000
DTEND;TZID=UTC:20250919T200000
DTSTAMP:20260421T194310
CREATED:20250902T112716Z
LAST-MODIFIED:20250902T112718Z
UID:2027-1758303000-1758312000@trailsweepers.org
SUMMARY:Happy Hour
DESCRIPTION:Good food and soft drinks but BYOB if you want something stronger.
URL:https://trailsweepers.org/event/happy-hour-37
LOCATION:Rondout Yacht Basin\, 102 1st Street\, Connelly\, New York\, 12417\, United States
END:VEVENT
BEGIN:VEVENT
DTSTART;TZID=UTC:20250921T090000
DTEND;TZID=UTC:20250921T140000
DTSTAMP:20260421T194310
CREATED:20250601T163311Z
LAST-MODIFIED:20250601T163313Z
UID:1952-1758445200-1758463200@trailsweepers.org
SUMMARY:BHF Run\, Walk\, Cycle for Cancer Care.
DESCRIPTION:Join the Trailsweeper team in raising funds for the Benedictine Health Foundation in support of local cancer patients and their families
URL:https://trailsweepers.org/event/bhf-run-walk-cycle-for-cancer-care
LOCATION:O&W Building at the Rail Trail\, 79 Hurley Avenue\, Kingston\, New York\, 12401\, United States
END:VEVENT
BEGIN:VEVENT
DTSTART;TZID=UTC:20250923T063000
DTEND;TZID=UTC:20250923T200000
DTSTAMP:20260421T194310
CREATED:20250801T114159Z
LAST-MODIFIED:20250801T114200Z
UID:2000-1758609000-1758657600@trailsweepers.org
SUMMARY:Board and Regular Club Meetings
DESCRIPTION:
URL:https://trailsweepers.org/event/board-and-regular-club-meetings-4
LOCATION:Sky View Mexican Restaurant\, 237 Forest Hill Drive\, Kingston\, New York\, 12401
END:VEVENT
BEGIN:VEVENT
DTSTART;TZID=UTC:20250926T173000
DTEND;TZID=UTC:20250926T200000
DTSTAMP:20260421T194310
CREATED:20250902T112832Z
LAST-MODIFIED:20250902T112833Z
UID:2029-1758907800-1758916800@trailsweepers.org
SUMMARY:Happy Hour
DESCRIPTION:
URL:https://trailsweepers.org/event/happy-hour-45
LOCATION:Brickmen Kitchen and Bar\, 47 North Front Street\, Kingston\, New York\, 12401\, United States
END:VEVENT
END:VCALENDAR