BEGIN:VCALENDAR
VERSION:2.0
PRODID:-//Trailsweepers Snow &amp; Sports Club - ECPv6.15.20//NONSGML v1.0//EN
CALSCALE:GREGORIAN
METHOD:PUBLISH
X-WR-CALNAME:Trailsweepers Snow &amp; Sports Club
X-ORIGINAL-URL:https://trailsweepers.org
X-WR-CALDESC:Events for Trailsweepers Snow &amp; Sports Club
REFRESH-INTERVAL;VALUE=DURATION:PT1H
X-Robots-Tag:noindex
X-PUBLISHED-TTL:PT1H
BEGIN:VTIMEZONE
TZID:UTC
BEGIN:STANDARD
TZOFFSETFROM:+0000
TZOFFSETTO:+0000
TZNAME:UTC
DTSTART:20240101T000000
END:STANDARD
END:VTIMEZONE
BEGIN:VEVENT
DTSTART;TZID=UTC:20251111T063000
DTEND;TZID=UTC:20251111T200000
DTSTAMP:20260421T164512
CREATED:20251108T142202Z
LAST-MODIFIED:20251108T142203Z
UID:2066-1762842600-1762891200@trailsweepers.org
SUMMARY:Meetings and Informational Program
DESCRIPTION:Board Meeting at 6:30 pm followed by brief regular Club meeting and Program by Jeff Wood on his visits to National Parks
URL:https://trailsweepers.org/event/meetings-and-informational-program
LOCATION:Sky View Mexican Restaurant\, 237 Forest Hill Drive\, Kingston\, New York\, 12401
END:VEVENT
BEGIN:VEVENT
DTSTART;TZID=UTC:20251113T080000
DTEND;TZID=UTC:20251113T170000
DTSTAMP:20260421T164512
CREATED:20251108T142400Z
LAST-MODIFIED:20251110T184255Z
UID:2068-1763020800-1763053200@trailsweepers.org
SUMMARY:3500 Peak Hike
DESCRIPTION:Hike to Sugarloaf (and possibly Plateau) from parking lot at the end of Mink Hollow Road near Elka Park. Meet at Kingston Park and Ride at 8 or trailhead at 9.  Advise S. Wingard if you plan to attend.
URL:https://trailsweepers.org/event/3500-peak-hike
LOCATION:New York
END:VEVENT
BEGIN:VEVENT
DTSTART;TZID=UTC:20251117T120000
DTEND;TZID=UTC:20251117T160000
DTSTAMP:20260421T164512
CREATED:20251110T185035Z
LAST-MODIFIED:20251110T185037Z
UID:2075-1763380800-1763395200@trailsweepers.org
SUMMARY:Club Hike
DESCRIPTION:Meet at Peterskill Parking Lot at Minnewaska and hike to Lost City area on Mohonk Preserve
URL:https://trailsweepers.org/event/club-hike
LOCATION:New York
END:VEVENT
BEGIN:VEVENT
DTSTART;TZID=UTC:20251122T180000
DTEND;TZID=UTC:20251122T220000
DTSTAMP:20260421T164512
CREATED:20250902T113224Z
LAST-MODIFIED:20250902T113226Z
UID:2031-1763834400-1763848800@trailsweepers.org
SUMMARY:Start of the Ski Season Dinner/Dance
DESCRIPTION:Join other Trailsweepers and Hudson Valley Ski Club members for a full\, served dinner and dancing to DJ Andre. Sign up required\, $ 50 per person.
URL:https://trailsweepers.org/event/start-of-the-ski-season-dinner-dance-2
LOCATION:Stonehedge Restaurant\, 1694 Route 9W\, West Park\, New York\, 12493\, United States
END:VEVENT
END:VCALENDAR