BEGIN:VCALENDAR
VERSION:2.0
PRODID:-//Trailsweepers Snow &amp; Sports Club - ECPv6.15.20//NONSGML v1.0//EN
CALSCALE:GREGORIAN
METHOD:PUBLISH
X-WR-CALNAME:Trailsweepers Snow &amp; Sports Club
X-ORIGINAL-URL:https://trailsweepers.org
X-WR-CALDESC:Events for Trailsweepers Snow &amp; Sports Club
REFRESH-INTERVAL;VALUE=DURATION:PT1H
X-Robots-Tag:noindex
X-PUBLISHED-TTL:PT1H
BEGIN:VTIMEZONE
TZID:UTC
BEGIN:STANDARD
TZOFFSETFROM:+0000
TZOFFSETTO:+0000
TZNAME:UTC
DTSTART:20250101T000000
END:STANDARD
END:VTIMEZONE
BEGIN:VEVENT
DTSTART;TZID=UTC:20260109T173000
DTEND;TZID=UTC:20260109T200000
DTSTAMP:20260421T134506
CREATED:20260101T164903Z
LAST-MODIFIED:20260101T165152Z
UID:2104-1767979800-1767988800@trailsweepers.org
SUMMARY:Happy Hour
DESCRIPTION:
URL:https://trailsweepers.org/event/happy-hour-8
LOCATION:Stella’s\, 44 North Front Street\, Kingston\, New York\, 12401\, United States
END:VEVENT
BEGIN:VEVENT
DTSTART;TZID=UTC:20260113T183000
DTEND;TZID=UTC:20260113T200000
DTSTAMP:20260421T134506
CREATED:20260101T165439Z
LAST-MODIFIED:20260101T165441Z
UID:2109-1768329000-1768334400@trailsweepers.org
SUMMARY:TSSC Meetings and Program
DESCRIPTION:
URL:https://trailsweepers.org/event/tssc-meetings-and-program
LOCATION:Sky View Mexican Restaurant\, 237 Forest Hill Drive\, Kingston\, New York\, 12401
END:VEVENT
BEGIN:VEVENT
DTSTART;TZID=UTC:20260120T170000
DTEND;TZID=UTC:20260120T200000
DTSTAMP:20260421T134506
CREATED:20251213T105938Z
LAST-MODIFIED:20260101T165233Z
UID:2097-1768928400-1768939200@trailsweepers.org
SUMMARY:After the Holidays Gathering/Dinner
DESCRIPTION:Simple format – order off the menu and pay for what you order as an individual or member of a small group.  Inform Lisa O. if you plan to attend by January 10.
URL:https://trailsweepers.org/event/after-the-holidays-gathering-dinner
LOCATION:The Cornell Restaurant and Bar\, 100 Rondout Landing\, Kingston\, New York\, 12401\, United States
END:VEVENT
BEGIN:VEVENT
DTSTART;TZID=UTC:20260123T173000
DTEND;TZID=UTC:20260123T200000
DTSTAMP:20260421T134506
CREATED:20260101T165103Z
LAST-MODIFIED:20260101T165105Z
UID:2106-1769189400-1769198400@trailsweepers.org
SUMMARY:Happy Hour
DESCRIPTION:
URL:https://trailsweepers.org/event/happy-hour-9
LOCATION:The Anchorage\, 182 Canal Street\, Kingston\, New York\, 12401\, United States
END:VEVENT
BEGIN:VEVENT
DTSTART;TZID=UTC:20260127T190000
DTEND;TZID=UTC:20260127T200000
DTSTAMP:20260421T134506
CREATED:20260101T165651Z
LAST-MODIFIED:20260101T165653Z
UID:2111-1769540400-1769544000@trailsweepers.org
SUMMARY:TSSC Meeting
DESCRIPTION:
URL:https://trailsweepers.org/event/tssc-meeting
LOCATION:Skyview Mexican Restaurant\, 237 Forest Hill Drive\, Kingston\, New York\, 12401\, United States
END:VEVENT
END:VCALENDAR