BEGIN:VCALENDAR
VERSION:2.0
PRODID:-//Trailsweepers Snow &amp; Sports Club - ECPv6.15.20//NONSGML v1.0//EN
CALSCALE:GREGORIAN
METHOD:PUBLISH
X-ORIGINAL-URL:https://trailsweepers.org
X-WR-CALDESC:Events for Trailsweepers Snow &amp; Sports Club
REFRESH-INTERVAL;VALUE=DURATION:PT1H
X-Robots-Tag:noindex
X-PUBLISHED-TTL:PT1H
BEGIN:VTIMEZONE
TZID:UTC
BEGIN:STANDARD
TZOFFSETFROM:+0000
TZOFFSETTO:+0000
TZNAME:UTC
DTSTART:20250101T000000
END:STANDARD
END:VTIMEZONE
BEGIN:VEVENT
DTSTART;TZID=UTC:20260306T173000
DTEND;TZID=UTC:20260306T200000
DTSTAMP:20260421T103308
CREATED:20260302T220806Z
LAST-MODIFIED:20260302T220815Z
UID:2146-1772818200-1772827200@trailsweepers.org
SUMMARY:Happy Hour
DESCRIPTION:
URL:https://trailsweepers.org/event/happy-hour-39
LOCATION:High Falls Cafe\, 2842 Route 209\, Kingston\, New York\, 12401\, United States
END:VEVENT
BEGIN:VEVENT
DTSTART;TZID=UTC:20260310T183000
DTEND;TZID=UTC:20260310T203000
DTSTAMP:20260421T103308
CREATED:20260201T115949Z
LAST-MODIFIED:20260201T115951Z
UID:2131-1773167400-1773174600@trailsweepers.org
SUMMARY:TSSC Meetings and Informational Program
DESCRIPTION:Board Meeting at 6:30 followed by brief Club meeting and Informational Program on Accupuncture
URL:https://trailsweepers.org/event/tssc-meetings-and-informational-program
LOCATION:Sky View Mexican Restaurant\, 237 Forest Hill Drive\, Kingston\, New York\, 12401
END:VEVENT
BEGIN:VEVENT
DTSTART;TZID=UTC:20260320T173000
DTEND;TZID=UTC:20260320T200000
DTSTAMP:20260421T103308
CREATED:20260302T220929Z
LAST-MODIFIED:20260302T220934Z
UID:2148-1774027800-1774036800@trailsweepers.org
SUMMARY:Happy Hour
DESCRIPTION:
URL:https://trailsweepers.org/event/happy-hour-40
LOCATION:Los Jalapenos\, 772 Ulster Avenue\, Kingston\, New York\, 12401\, United States
END:VEVENT
BEGIN:VEVENT
DTSTART;TZID=UTC:20260321T080000
DTEND;TZID=UTC:20260321T160000
DTSTAMP:20260421T103308
CREATED:20260201T120219Z
LAST-MODIFIED:20260201T120221Z
UID:2135-1774080000-1774108800@trailsweepers.org
SUMMARY:NJSSC President's Ski Race
DESCRIPTION:
URL:https://trailsweepers.org/event/njssc-presidents-ski-race
LOCATION:Hunter Mountain Ski Resort\, 64 Glen Avenue\, Hunter\, New York\, 12442\, United States
END:VEVENT
BEGIN:VEVENT
DTSTART;TZID=UTC:20260324T190000
DTEND;TZID=UTC:20260324T200000
DTSTAMP:20260421T103308
CREATED:20260201T120106Z
LAST-MODIFIED:20260201T120108Z
UID:2133-1774378800-1774382400@trailsweepers.org
SUMMARY:TSSC Meeting
DESCRIPTION:
URL:https://trailsweepers.org/event/tssc-meeting-3
LOCATION:Sky View Mexican Restaurant\, 237 Forest Hill Drive\, Kingston\, New York\, 12401
END:VEVENT
END:VCALENDAR